BEGIN:VCALENDAR
VERSION:2.0
PRODID:-//ChamberMaster//Event Calendar 2.0//EN
METHOD:PUBLISH
X-PUBLISHED-TTL:P3D
REFRESH-INTERVAL:P3D
CALSCALE:GREGORIAN
BEGIN:VEVENT
DTSTART:20131219T160000Z
DTEND:20131219T180000Z
X-MICROSOFT-CDO-ALLDAYEVENT:FALSE
SUMMARY:Event at Halo Computers test editing edited edited 2
DESCRIPTION:description edit test I can edit this event editing again
X-ALT-DESC;FMTTYPE=text/html:description edit test I can edit this event editing again
LOCATION:description edit test edit
UID:e.1531.910
SEQUENCE:3
DTSTAMP:20260423T032632Z
URL:https://cmmembers.psaeger.com/events/details/event-at-halo-computers-test-editing-edited-edited-2-12-19-2013-910
END:VEVENT

END:VCALENDAR
