BEGIN:VCALENDAR
VERSION:2.0
PRODID:-//ChamberMaster//Event Calendar 2.0//EN
METHOD:PUBLISH
X-PUBLISHED-TTL:P3D
REFRESH-INTERVAL:P3D
CALSCALE:GREGORIAN
BEGIN:VEVENT
DTSTART:20160226T030000Z
DTEND:20160226T043000Z
X-MICROSOFT-CDO-ALLDAYEVENT:FALSE
SUMMARY:Evening of Ballet Classics
DESCRIPTION:Fairy Tales and Fantasy -An Evening of Ballet Classics  Performed by Brigham Young University Theatre Ballet     Selections from ballets such as Romeo & Juliet\, Swan Lake\, Sleeping Beauty\, Cinderella\, Le Corsaire\, Don Quixote\, and more. Suitable for all ages. Girls and boys may dress as princesses and pirates\, and have an opportunity to be included in the performance.  Doors at 6:30pm. Showtime -- 7:00pm. All seats $15.00. Open seating.  All tickets sold by TELEPHONE ONLY at 707-262-0652.  Tickets NOT AVAILABLE through the Soper Reese Theatre.
X-ALT-DESC;FMTTYPE=text/html:<h5>&nbsp\;</h5>  <div> <p><strong>Fairy Tales and Fantasy -An Evening of Ballet Classics</strong></p>  <p>Performed by Brigham Young University Theatre Ballet</p>  <p>&nbsp\;</p>  <p>Selections from ballets such as Romeo &amp\; Juliet\, Swan Lake\, Sleeping Beauty\, Cinderella\, Le Corsaire\, Don Quixote\, and more. Suitable for all ages. Girls and boys may dress as princesses and pirates\, and have an opportunity to be included in the performance.</p>  <p>Doors at 6:30pm.&nbsp\;Showtime -- 7:00pm. All seats $15.00. Open seating.</p>  <p>All tickets sold by TELEPHONE ONLY at 707-262-0652.</p>  <p>Tickets NOT AVAILABLE through the Soper Reese Theatre.</p> </div>  <div>&nbsp\;</div> 
LOCATION:Soper Reese Theatre\, 275 S. Main St.\, Lakeport
UID:e.1531.3201
SEQUENCE:3
DTSTAMP:20260421T102022Z
URL:https://cmmembers.psaeger.com/events/details/evening-of-ballet-classics-02-25-2016-3201
END:VEVENT

END:VCALENDAR
