BEGIN:VCALENDAR
VERSION:2.0
PRODID:-//ChamberMaster//Event Calendar 2.0//EN
METHOD:PUBLISH
X-PUBLISHED-TTL:P3D
REFRESH-INTERVAL:P3D
CALSCALE:GREGORIAN
BEGIN:VEVENT
DTSTART:20160904T190000Z
DTEND:20160904T210000Z
X-MICROSOFT-CDO-ALLDAYEVENT:FALSE
SUMMARY:Ely Stage Stop Fiddlers' Jam
DESCRIPTION:In October of 2013\, the Ely Stage Stop volunteers began a partnership with the Northern California Old Time Fiddlers Association\, District 10\, and together they created the now-popular monthly Fiddlers' Jam. The Fiddlers' Jam runs in the museum barn on the first Sunday of each month from noon through 2 p.m.  Musicians of all ages with all sorts of instruments will descend upon the barn for the round robin style jam session.  Celebrating Americana music\, you will be treated to "old timey" tunes and sometimes a sing-along.  Come ready to clap your hands\, tap your toes\, and get up and dance!      This free\, family friendly event can be enjoyed by all\, young and old alike.  Come early to enjoy the latest museum acquisitions and displays.  Enjoy a hay ride between the main house and the barn.  Bring a picnic lunch to enjoy on one of the beautiful picnic tables.  Enjoy the music with beverages and tasty treats provided by the docents. Bring your own wine and sip it in Ely Stage Stop wine glasses that are available for purchase.      Attendees frequently make donations and the money collected is split between Ely\, to help fund the blacksmith complex that is currently under construction\, and the Fiddlers Association\, who uses it to partially fund their scholarship programs.     The Lake County Historical Society's Ely Stage Stop & Country Museum is located at 9921 Hwy 281 (Soda Bay Road) in Kelseyville.  Current hours of operation are 11 a.m. to 3 p.m. each Saturday and Sunday.  Fiddlers' Jams occur the first Sunday of every month. Visit www.elystagestop.com or www.lakecountyhistory.org\, check out the stage stop on Facebook at www.facebook.com/elystagestop\, or call the museum at 707-533-9990.
X-ALT-DESC;FMTTYPE=text/html:<p style="margin: 0.0px 0.0px 0.0px 0.0px\; font: 12.0px Helvetica"><span style="letter-spacing: 0.0px">In October of 2013\,&nbsp\;the Ely Stage Stop volunteers began a partnership with the Northern California Old Time Fiddlers Association\, District 10\, and together they created the now-popular monthly Fiddlers&#39\; Jam. The Fiddlers&rsquo\; Jam runs in the museum barn on the first Sunday of each month from noon through 2 p.m. &nbsp\;</span><span style="letter-spacing: 0.0px color: #0a0a0a">Musicians of all ages with all sorts of instruments will descend upon the barn for the round robin style jam session.&nbsp\; </span><span style="letter-spacing: 0.0px color: #0a010b">Celebrating Americana music\, you will be treated to &ldquo\;old timey&rdquo\; tunes and sometimes a sing-along.&nbsp\;</span><span style="letter-spacing: 0.0px"> Come ready to clap your hands\, tap your toes\, and get up and dance!&nbsp\;</span></p>  <p style="margin: 0.0px 0.0px 0.0px 0.0px\; font: 12.0px Helvetica\; min-height: 14.0px"><span style="letter-spacing: 0.0px">&nbsp\;</span></p>  <p style="margin: 0.0px 0.0px 0.0px 0.0px\; font: 12.0px Helvetica"><span style="letter-spacing: 0.0px">This free\, family friendly event can be enjoyed by all\, young and old alike. &nbsp\;Come early to enjoy the latest museum acquisitions and displays. &nbsp\;Enjoy a hay ride between the main house and the barn. &nbsp\;Bring a picnic lunch to enjoy on one of the beautiful picnic tables.&nbsp\;&nbsp\;Enjoy the music with beverages and tasty treats provided by the docents. Bring your own wine and sip it in Ely Stage Stop wine glasses that are available for purchase.&nbsp\;</span></p>  <p style="margin: 0.0px 0.0px 0.0px 0.0px\; font: 12.0px Helvetica\; min-height: 14.0px">&nbsp\;</p>  <p style="margin: 0.0px 0.0px 0.0px 0.0px\; font: 12.0px Helvetica"><span style="letter-spacing: 0.0px">Attendees frequently make donations and the money collected is split between Ely\, to help fund the blacksmith complex that is currently under construction\, and the Fiddlers Association\, who uses it to partially fund their scholarship programs.</span></p>  <p style="margin: 0.0px 0.0px 0.0px 0.0px\; font: 12.0px 'Times New Roman'\; min-height: 15.0px">&nbsp\;</p>  <p style="margin: 0.0px 0.0px 0.0px 0.0px\; font: 12.0px Helvetica"><span style="letter-spacing: 0.0px">The Lake County Historical Society&rsquo\;s Ely Stage Stop &amp\; Country Museum is located at 9921 Hwy 281 (Soda Bay Road) in Kelseyville.&nbsp\; Current hours of operation are 11 a.m. to 3 p.m. each Saturday and Sunday.&nbsp\; Fiddlers&rsquo\; Jams occur the first Sunday of every month. Visit <a href="http://www.elystagestop.com"><span style="text-decoration: underline \; letter-spacing: 0.0px color: #00010b">www.elystagestop.com</span></a> or <a href="http://www.lakecountyhistory.org"><span style="text-decoration: underline \; letter-spacing: 0.0px color: #00010b">www.lakecountyhistory.org</span></a>\, check out the stage stop on Facebook at <a href="http://www.facebook.com/elystagestop"><span style="text-decoration: underline \; letter-spacing: 0.0px">www.facebook.com/elystagestop</span></a>\, or call the museum at 707-533-9990.</span></p> 
LOCATION:Ely Stage Stop & Country Museum\, 9921 Hwy 281\, Kelseyville\, CA
UID:e.1531.3321
SEQUENCE:3
DTSTAMP:20260420T231559Z
URL:https://cmmembers.psaeger.com/events/details/ely-stage-stop-fiddlers-jam-09-04-2016-3321
END:VEVENT

END:VCALENDAR
