BEGIN:VCALENDAR
VERSION:2.0
PRODID:-//ChamberMaster//Event Calendar 2.0//EN
METHOD:PUBLISH
X-PUBLISHED-TTL:P3D
REFRESH-INTERVAL:P3D
CALSCALE:GREGORIAN
BEGIN:VEVENT
DTSTART:20160320T030000Z
DTEND:20160320T065900Z
X-MICROSOFT-CDO-ALLDAYEVENT:FALSE
SUMMARY:ELECTRIC TOYS BAND Riviera Hills Rest. & Lounge
DESCRIPTION:Electric Toys Band is a Premier Northern California dance band.  So come and dance the night away
X-ALT-DESC;FMTTYPE=text/html:<p><span style="color:#0000CD\;"><span style="font-size: 14px\;"><strong>Electric Toys Band</strong></span></span> is a Premier Northern California dance band.</p>  <p>So come and dance the night away</p> 
LOCATION:Riviera Hills RESTAURANT & Lounge
UID:e.1531.3442
SEQUENCE:3
DTSTAMP:20260421T102707Z
URL:https://cmmembers.psaeger.com/events/details/electric-toys-band-riviera-hills-rest-lounge-03-19-2016-3442
END:VEVENT

END:VCALENDAR
