BEGIN:VCALENDAR
VERSION:2.0
PRODID:-//ChamberMaster//Event Calendar 2.0//EN
METHOD:PUBLISH
X-PUBLISHED-TTL:P3D
REFRESH-INTERVAL:P3D
CALSCALE:GREGORIAN
BEGIN:VEVENT
DTSTART:20160327T200000Z
DTEND:20160327T230000Z
X-MICROSOFT-CDO-ALLDAYEVENT:FALSE
SUMMARY:ELECTRIC TOYS BAND
DESCRIPTION:COME JOIN US ON EASTER FOR SOME HOPPING FUN\, DANCE TO THE HAPPENING LAKE COUNTY BAND "THE ELECTRIC TOYS BAND" WITH ONE OF THE BEST VIEWS OF CLEAR LAKE\, GREAT FOOD & DRNKS.  BRING YOUR DANCING SHOES & BRING YOUR FRIENDS            Music from 1 to 4pm
X-ALT-DESC;FMTTYPE=text/html:<p><strong>COME JOIN US ON EASTER FOR SOME HOPPING FUN\, DANCE TO THE HAPPENING LAKE COUNTY BAND &quot\;THE ELECTRIC TOYS BAND&quot\;&nbsp\;WITH ONE OF THE BEST VIEWS OF CLEAR LAKE\, GREAT FOOD &amp\; DRNKS. &nbsp\;BRING YOUR DANCING SHOES &amp\; BRING YOUR FRIENDS&#8252\;&#65039\;&#8252\;&#65039\;&#8252\;&#65039\;&#8252\;&#65039\;&#8252\;&#65039\;</strong></p>  <p><span style="font-size: 14px\;"><strong>Music from 1 to 4pm</strong></span></p>  <p>&nbsp\;</p> 
LOCATION:THE BOATHOUSE BAR & RESTAURANT \, 2685 Lakeshore Blvd. Nice\, Ca
UID:e.1531.3487
SEQUENCE:3
DTSTAMP:20260421T102345Z
URL:https://cmmembers.psaeger.com/events/details/electric-toys-band-03-27-2016-3487
END:VEVENT

END:VCALENDAR
