BEGIN:VCALENDAR
VERSION:2.0
PRODID:-//ChamberMaster//Event Calendar 2.0//EN
METHOD:PUBLISH
X-PUBLISHED-TTL:P3D
REFRESH-INTERVAL:P3D
CALSCALE:GREGORIAN
BEGIN:VEVENT
DTSTART:20160327T160000Z
DTEND:20160328T065900Z
X-MICROSOFT-CDO-ALLDAYEVENT:FALSE
SUMMARY:Easter Brunch at BlackRock
DESCRIPTION:EASTER BRUNCH MENU   MARCH 27\, 2016   BUFFET 25.00  - Starting at 9AM  Fresh Fruit and Cheese Platter\n Assorted Muffins and Pastry\n Mixed Green Salad   Balsamic Dressing   Bartlett Pears\n Caesar Salad   Housemade Anchovy Dressing   Grana Padano Parmesan Applewood Smoked Bacon\n Country Breakfast Sausage\n Steel Cut Oatmeal\n Vanilla Bean French Toast   Pure Maple Syrup\n Truffled Scrambled Eggs with Crispy Prosciutto\n Homefried Potatoes O'Brien\n Biscuits and Sausage Gravy\n Eggs Benedict   Ham   English Muffin   Hollandaise Sauce Wilted Baby Spinach\n Oven Roasted Brussels Sprouts   MADE TO ORDER STATIONS   Eggs to Order\n Omelets   choose from a selection of fresh meats\, vegetables and cheeses Honey Ham   Herb Roasted Turkey Breast   DESSERTS   Chocolate Mousse Cake   NY Style Cheesecake  Lavender Cr me Brulee
X-ALT-DESC;FMTTYPE=text/html:<div class="page" title="Page 1"> <div class="section" style="background-color: rgb(255\, 255\, 255)\;"> <p style="text-align: center\;">&nbsp\;</p>  <div class="layoutArea"> <div class="column"> <p style="text-align: center\;"><span style="font-size: 16px\;"><strong><span style="font-family:\;">EASTER BRUNCH MENU &ndash\; MARCH 27\, 2016 </span></strong></span></p>  <p style="text-align: center\;"><span style="font-size: 16px\;"><strong><span style="font-family:\;">BUFFET 25.00&nbsp\; - Starting at 9AM</span></strong></span></p>  <p style="text-align: center\;"><span style="font-size: 14px\;"><span style="font-family:\;">Fresh Fruit and Cheese Platter<br /> Assorted Muffins and Pastry<br /> Mixed Green Salad &ndash\; Balsamic Dressing &ndash\; Bartlett Pears<br /> Caesar Salad &ndash\; Housemade Anchovy Dressing &ndash\; Grana Padano Parmesan Applewood Smoked Bacon<br /> Country Breakfast Sausage<br /> Steel Cut Oatmeal<br /> Vanilla Bean French Toast &ndash\; Pure Maple Syrup<br /> Truffled Scrambled Eggs with Crispy Prosciutto<br /> Homefried Potatoes O&rsquo\;Brien<br /> Biscuits and Sausage Gravy<br /> Eggs Benedict &ndash\; Ham &ndash\; English Muffin &ndash\; Hollandaise Sauce Wilted Baby Spinach<br /> Oven Roasted Brussels Sprouts </span></span></p>  <p style="text-align: center\;"><strong><span style="font-size: 14px\;"><span style="font-family:\;">MADE TO ORDER STATIONS </span></span></strong></p>  <p style="text-align: center\;"><span style="font-size: 14px\;"><span style="font-family:\;">Eggs to Order<br /> Omelets &ndash\; choose from a selection of fresh meats\, vegetables and cheeses Honey Ham </span></span></p>  <p style="text-align: center\;"><span style="font-size: 14px\;"><span style="font-family:\;">Herb Roasted Turkey Breast </span></span></p>  <p style="text-align: center\;"><strong><span style="font-size: 14px\;"><span style="font-family:\;">DESSERTS </span></span></strong></p>  <p style="text-align: center\;"><span style="font-size: 14px\;"><span style="font-family:\;">Chocolate Mousse Cake </span></span></p>  <p style="text-align: center\;"><span style="font-size: 14px\;"><span style="font-family:\;">NY Style Cheesecake</span></span></p>  <p style="text-align: center\;"><span style="font-size: 14px\;"><span style="font-family:\;">Lavender Cr&egrave\;me Brulee&nbsp\;</span></span></p> </div> </div> </div> </div> 
LOCATION:BlackRock Golf Course
UID:e.1531.3482
SEQUENCE:3
DTSTAMP:20260421T085802Z
URL:https://cmmembers.psaeger.com/events/details/easter-brunch-at-blackrock-03-27-2016-3482
END:VEVENT

END:VCALENDAR
