BEGIN:VCALENDAR
VERSION:2.0
PRODID:-//ChamberMaster//Event Calendar 2.0//EN
METHOD:PUBLISH
X-PUBLISHED-TTL:P3D
REFRESH-INTERVAL:P3D
CALSCALE:GREGORIAN
BEGIN:VEVENT
DTSTART:20160515T010000Z
DTEND:20160515T050000Z
X-MICROSOFT-CDO-ALLDAYEVENT:FALSE
SUMMARY:Denim & Diamonds
DESCRIPTION:Come join Kelseyville Rotary for our annual Denim & Diamonds Charity Event\, which will be held on Saturday\, May 14\, 2016 at Chacewater Winery & Olive Mill in Kelseyville\, CA.This is a well-attended event that does sell out every year!  We have a lovely evening planned for you that will consist of dinner\, a silent and live auction\, raffle\, dancing and live music by the LC Diamonds!     We will have limited number of $1\,000 sponsorship opportunities available. This will include:   	Table of 8 with a bottle of Red & White Wine 	Special recognition the evening of the event 	Ad in event program 	Logo on all printed materials and newspaper Ad's 	Name recognition on radio   Individual event tickets can be purchased for $65/pp  Silent and Live Donation items are always welcome.  If you are interested in purchasing tickets\, sponsorship opportunities or donating a silent or live auction item please contact:  Kimberly Baldwin or Tom Dodd at: kelseyvillerotary@gmail.com or by phone at: 707.349.7913  Thanks to donors and supporters like you\, Rotary of Kelseyville Sunrise is able to accomplish great things. Look forward to seeing you at Denim & Diamonds 2016!
X-ALT-DESC;FMTTYPE=text/html:<h3>&nbsp\;</h3>  <h3>Come join Kelseyville Rotary for our annual <strong>Denim &amp\; Diamonds Charity Event\, </strong>which<strong>&nbsp\;</strong>will be held on <strong>Saturday\, May 14\, 2016</strong> at Chacewater Winery &amp\; Olive Mill in Kelseyville\, CA.This is a well-attended event that does sell out every year!</h3>  <p>We have a lovely evening planned for you that will consist of dinner\, a silent and live auction\, raffle\, dancing and live music by the LC Diamonds!</p>  <p>&nbsp\;</p>  <p>We will have <strong><u>limited number of $1\,000 sponsorship </u>opportunities available.</strong> This will include:</p>  <ul> 	<li>Table of 8 with a bottle of Red &amp\; White Wine</li> 	<li>Special recognition the evening of the event</li> 	<li>Ad in event program</li> 	<li>Logo on all printed materials and newspaper Ad&rsquo\;s</li> 	<li>Name recognition on radio</li> </ul>  <p><strong>Individual event tickets can be purchased for $65/pp</strong></p>  <p>Silent and Live Donation items are always welcome.</p>  <p>If you are interested in <em><strong>purchasing tickets\, sponsorship opportunities&nbsp\;or donating a silent or live auction item please contact:</strong></em>&nbsp\; <u>Kimberly Baldwin or Tom Dodd </u>at: <a href="mailto:kelseyvillerotary@gmail.com">kelseyvillerotary@gmail.com</a> or by phone at: 707.349.7913</p>  <h4>Thanks to donors and supporters like you\, Rotary of Kelseyville Sunrise is able to accomplish great things. Look forward to seeing you at Denim &amp\; Diamonds 2016!</h4>  <p>&nbsp\;</p>  <p>&nbsp\;</p> 
LOCATION:Chacewater Winery & Olive Mill
UID:e.1531.3267
SEQUENCE:3
DTSTAMP:20260421T055829Z
URL:https://cmmembers.psaeger.com/events/details/denim-diamonds-05-14-2016-3267
END:VEVENT

END:VCALENDAR
