BEGIN:VCALENDAR
VERSION:2.0
PRODID:-//ChamberMaster//Event Calendar 2.0//EN
METHOD:PUBLISH
X-PUBLISHED-TTL:P3D
REFRESH-INTERVAL:P3D
CALSCALE:GREGORIAN
BEGIN:VEVENT
DTSTART:20160820T000000Z
DTEND:20160820T030000Z
X-MICROSOFT-CDO-ALLDAYEVENT:FALSE
SUMMARY:Decades - Concert on the Green
DESCRIPTION:Concerts on the Green  Open to the Public 3rd Friday of the Month\n 5:00pm-8:00pm  August 19    Decades     Next: September 16    Lake County Diamonds
X-ALT-DESC;FMTTYPE=text/html:<h1 style="text-align: center\;"><span style="color:#008000\;">Concerts on the Green</span></h1>  <p style="text-align: center\;"><span style="color:#008000\;">Open to the Public 3rd Friday of the Month<br /> 5:00pm-8:00pm</span></p>  <p style="text-align: center\;"><span style="font-size:18px\;">August 19 &nbsp\;&nbsp\;&nbsp\;Decades</span></p>  <p style="text-align: center\;">&nbsp\;</p>  <p><span style="font-size:18px\;">Next: <a href="http://www2.lakecochamber.com/calendar/w/id/19964/event-details.asp">September 16 &nbsp\;&nbsp\;&nbsp\;Lake County Diamonds</a></span></p>  <p>&nbsp\;</p> 
LOCATION:Hidden Valley Lake - Behind the Greenview Restaurant
UID:e.1531.3506
SEQUENCE:3
DTSTAMP:20260421T004957Z
URL:https://cmmembers.psaeger.com/events/details/decades-concert-on-the-green-08-19-2016-3506
END:VEVENT

END:VCALENDAR
