BEGIN:VCALENDAR
VERSION:2.0
PRODID:-//ChamberMaster//Event Calendar 2.0//EN
METHOD:PUBLISH
X-PUBLISHED-TTL:P3D
REFRESH-INTERVAL:P3D
CALSCALE:GREGORIAN
BEGIN:VEVENT
DTSTART:20160309T020000Z
DTEND:20160309T050000Z
X-MICROSOFT-CDO-ALLDAYEVENT:FALSE
SUMMARY:David Neft at $20 Tuesday
DESCRIPTION:Live music is a great compliment to our weekly $20 Tuesdays fixed price three course offered in additional to our regular menu. David Neft\, one of Lake County's premier pianists\, will be at the keyboards of our vintage 1902 Kimball piano.
X-ALT-DESC;FMTTYPE=text/html:<p>Live music is a great compliment to our weekly $20 Tuesdays fixed price three course offered in additional to our regular menu. David Neft\, one of Lake County&#39\;s premier pianists\, will be at the keyboards of our vintage 1902 Kimball piano.</p> 
LOCATION:Blue Wing Restaurant
UID:e.1531.3218
SEQUENCE:3
DTSTAMP:20260421T085751Z
URL:https://cmmembers.psaeger.com/events/details/david-neft-at-20-tuesday-03-08-2016-3218
END:VEVENT

END:VCALENDAR
