BEGIN:VCALENDAR
VERSION:2.0
PRODID:-//ChamberMaster//Event Calendar 2.0//EN
METHOD:PUBLISH
X-PUBLISHED-TTL:P3D
REFRESH-INTERVAL:P3D
CALSCALE:GREGORIAN
BEGIN:VEVENT
DTSTART:20160511T010000Z
DTEND:20160511T030000Z
X-MICROSOFT-CDO-ALLDAYEVENT:FALSE
SUMMARY:David Neft a Blue Wing $20 Tuesday
DESCRIPTION:Live music is a great compliment to our weekly $20 Tuesdays fixed price three course offered in additional to our regular menu. David Neft\, one of Lake County's premier pianists\, will be at his keyboard or on the stool in front of our vintage 1902 Kimball piano.
X-ALT-DESC;FMTTYPE=text/html:<p>Live music is a great compliment to our weekly $20 Tuesdays fixed price three course offered in additional to our regular menu. David Neft\, one of Lake County&#39\;s premier pianists\, will be at his keyboard or on the stool in front of our vintage 1902 Kimball piano.</p> 
LOCATION:Blue Wing Restaurant
UID:e.1531.3399
SEQUENCE:3
DTSTAMP:20260421T060105Z
URL:https://cmmembers.psaeger.com/events/details/david-neft-a-blue-wing-20-tuesday-05-10-2016-3399
END:VEVENT

END:VCALENDAR
