BEGIN:VCALENDAR
VERSION:2.0
PRODID:-//ChamberMaster//Event Calendar 2.0//EN
METHOD:PUBLISH
X-PUBLISHED-TTL:P3D
REFRESH-INTERVAL:P3D
CALSCALE:GREGORIAN
BEGIN:VEVENT
DTSTART:20160308T023000Z
DTEND:20160308T050000Z
X-MICROSOFT-CDO-ALLDAYEVENT:FALSE
SUMMARY:David Landon Band at Blue Wing Monday Blues
DESCRIPTION:Local\, Bay Area and touring blues bands perform at the Blue Wing at dinner time each Monday evening. It's great food in a lively and danceable atmosphere. There's no cover but reservations are suggested\, either inside or out on our heated veranda. Tonight we feature the East Bay blues guitarist and vocalist David Landon and his band.
X-ALT-DESC;FMTTYPE=text/html:<p>Local\, Bay Area and touring blues bands perform at the Blue Wing at dinner time each Monday evening. It&#39\;s great food in a lively and danceable atmosphere. There&#39\;s no cover but reservations are suggested\, either inside or out on our heated veranda. Tonight we feature the East Bay blues guitarist and vocalist David Landon and his band.</p> 
LOCATION:Blue Wing Restaurant
UID:e.1531.3217
SEQUENCE:3
DTSTAMP:20260421T090304Z
URL:https://cmmembers.psaeger.com/events/details/david-landon-band-at-blue-wing-monday-blues-03-07-2016-3217
END:VEVENT

END:VCALENDAR
