BEGIN:VCALENDAR
VERSION:2.0
PRODID:-//ChamberMaster//Event Calendar 2.0//EN
METHOD:PUBLISH
X-PUBLISHED-TTL:P3D
REFRESH-INTERVAL:P3D
CALSCALE:GREGORIAN
BEGIN:VEVENT
DTSTART:20160307T020000Z
DTEND:20160307T050000Z
X-MICROSOFT-CDO-ALLDAYEVENT:FALSE
SUMMARY:David Landon at Blue Wing First Sunday Live
DESCRIPTION:Join "Majide\," the smooth combo of Paul Kemp on keys and Machiko on vocals\, for some pleasant Sunday supper background music at the Blue Wing. An hour of this professionally produced program is broadcast on a delayed basis on the following Monday evening from 8:00 to 9:00 over the local station KNTI 99.5 FM and streams at www.KNTI.com. Tonight their guest will be jazz and blues guitarist David Landon.
X-ALT-DESC;FMTTYPE=text/html:<p>Join &quot\;Majide\,&quot\; the smooth combo of Paul Kemp on keys and Machiko on vocals\, for some pleasant Sunday supper background music at the Blue Wing. An hour of this professionally produced program is broadcast on a delayed basis on the following Monday evening from 8:00 to 9:00 over the local station KNTI 99.5 FM and streams at <a href="http://www.knti.com/">www.KNTI.com</a>. Tonight their guest will be jazz and blues guitarist David Landon.</p> 
LOCATION:Blue Wing Restaurant
UID:e.1531.3213
SEQUENCE:3
DTSTAMP:20260421T090246Z
URL:https://cmmembers.psaeger.com/events/details/david-landon-at-blue-wing-first-sunday-live-03-06-2016-3213
END:VEVENT

END:VCALENDAR
