BEGIN:VCALENDAR
VERSION:2.0
PRODID:-//ChamberMaster//Event Calendar 2.0//EN
METHOD:PUBLISH
X-PUBLISHED-TTL:P3D
REFRESH-INTERVAL:P3D
CALSCALE:GREGORIAN
BEGIN:VEVENT
DTSTART:20160612T173000Z
DTEND:20160612T220000Z
X-MICROSOFT-CDO-ALLDAYEVENT:FALSE
SUMMARY:Dan Meyer at Blue Wing Sunday Brunch
DESCRIPTION:Enjoy a great brunch from 10:30 to 3:00 with live music inside or out in the garden in good weather from 11:30 to 2:00. Music today is by the original latin-based jazz guitarist and vocalist Dan Meyer.
X-ALT-DESC;FMTTYPE=text/html:<p>Enjoy a great brunch from 10:30 to 3:00 with live music inside or out in the garden in good weather from 11:30 to 2:00. Music today is by the original latin-based jazz guitarist and vocalist Dan Meyer.</p> 
LOCATION:Blue Wing Restaurant
UID:e.1531.3418
SEQUENCE:3
DTSTAMP:20260421T054836Z
URL:https://cmmembers.psaeger.com/events/details/dan-meyer-at-blue-wing-sunday-brunch-06-12-2016-3418
END:VEVENT

END:VCALENDAR
