BEGIN:VCALENDAR
VERSION:2.0
PRODID:-//ChamberMaster//Event Calendar 2.0//EN
METHOD:PUBLISH
X-PUBLISHED-TTL:P3D
REFRESH-INTERVAL:P3D
CALSCALE:GREGORIAN
BEGIN:VEVENT
DTSTART:20160224T020000Z
DTEND:20160224T043000Z
X-MICROSOFT-CDO-ALLDAYEVENT:FALSE
SUMMARY:Cool Hand Luke film
DESCRIPTION:Paul Newman teams up with George Kennedy in "Cool Hand Luke\," a 1967 action\, comedy\, drama classic showing at the Soper Reese Theatre in Lakeport on Tuesday\, February 23\, at 1:00 and 6:00 pm.     The film is critical of the inhuman treatment of chain gangs\, while also celebrating the indomitable spirit of the downtrodden man.  Newman delivers an intense performance as the boss-baiter who refuses to submit and becomes a hero to his fellow prisoners.  Kennedy won an Academy Award for Best Supporting Actor and Newman was nominated for Best Actor.     The movie is rated PG\, with run time of 2 hours 6 minutes.  Entry to the film is by donation.  The Soper Reese Theatre is located at 275 S. Main St.\, Lakeport\, 707-263-0577\, soperreesetheatre.com.
X-ALT-DESC;FMTTYPE=text/html:<p>Paul Newman teams up with George Kennedy in &quot\;Cool Hand Luke\,&quot\; a 1967 action\, comedy\, drama classic showing at the Soper Reese Theatre in Lakeport on Tuesday\, February 23\, at 1:00 and 6:00 pm.</p>  <p>&nbsp\;</p>  <p>The film is critical of the inhuman treatment of chain gangs\, while also celebrating the indomitable spirit of the downtrodden man.&nbsp\;&nbsp\;Newman delivers an intense performance as the boss-baiter who refuses to submit and becomes a hero to his fellow prisoners.&nbsp\;&nbsp\;Kennedy won an Academy Award for Best Supporting Actor and Newman was nominated for Best Actor.</p>  <p>&nbsp\;</p>  <p>The movie is rated PG\, with run time of 2 hours 6 minutes.&nbsp\;&nbsp\;Entry to the film is by donation.&nbsp\;&nbsp\;The Soper Reese Theatre is located at&nbsp\;275 S. Main St.\, Lakeport\, 707-263-0577\, soperreesetheatre.com.&nbsp\;</p> 
LOCATION:Soper Reese Theatre\, 275 S. Main St.\, Lakeport
UID:e.1531.3200
SEQUENCE:3
DTSTAMP:20260421T115128Z
URL:https://cmmembers.psaeger.com/events/details/cool-hand-luke-film-02-23-2016-3200
END:VEVENT

END:VCALENDAR
