BEGIN:VCALENDAR
VERSION:2.0
PRODID:-//ChamberMaster//Event Calendar 2.0//EN
METHOD:PUBLISH
X-PUBLISHED-TTL:P3D
REFRESH-INTERVAL:P3D
CALSCALE:GREGORIAN
BEGIN:VEVENT
DTSTART:20160819T080000Z
DTEND:20160819T130000Z
X-MICROSOFT-CDO-ALLDAYEVENT:FALSE
SUMMARY:CONCERT SERIES
DESCRIPTION:Twin Pine Casino & Hotel\n\nEvent Center - Concert Series\n\nFor details and ticket sales go to   \n\ntwinpine.com\n\nDoors open at 6:00pm  Show at 7:00pm\n\nTickets $25 includes $10 Free Play\n\nJuly 23\, 2016   Thunder from Down Under\n\nAugust 19\, 2016   Big Bad Vodoo Daddy\n\nOctober 8\, 2016  Noches de Baile
X-ALT-DESC;FMTTYPE=text/html:<h1 style="text-align: center\;"><span style="color:#8B4513\;">Twin Pine Casino &amp\; Hotel</span></h1>\n\n<h1 style="text-align: center\;"><span style="color: rgb(128\, 0\, 0)\;">Event Center - Concert Serie</span><span style="color: rgb(139\, 69\, 19)\;">s</span></h1>\n\n<h4 style="text-align: center\;"><span style="color: rgb(0\, 0\, 205)\;">For details and ticket sales go to &nbsp\;&nbsp\;</span></h4>\n\n<h4 style="text-align: center\;"><u><span style="color: rgb(0\, 0\, 205)\;">twinpine.com</span></u></h4>\n\n<p style="text-align: center\;"><strong>Doors open at 6:00pm &nbsp\;Show at 7:00pm</strong></p>\n\n<p style="text-align: center\;"><strong>Tickets $25 includes $10 Free Play</strong></p>\n\n<h3 style="text-align: center\;">July 23\, 2016 &nbsp\;&nbsp\;<em>Thunder from Down Under</em></h3>\n\n<h3 style="text-align: center\;">August 19\, 2016 &nbsp\;<em>&nbsp\;Big Bad Vodoo Daddy</em></h3>\n\n<h3 style="text-align: center\;">October 8\, 2016&nbsp\;<i>&nbsp\;Noches de Baile</i></h3>\n
LOCATION:Twin Pine Casino & Hotel
UID:e.1531.3743
SEQUENCE:3
DTSTAMP:20260421T021409Z
URL:https://cmmembers.psaeger.com/events/details/concert-series-08-19-2016-3743
END:VEVENT

END:VCALENDAR
