BEGIN:VCALENDAR
VERSION:2.0
PRODID:-//ChamberMaster//Event Calendar 2.0//EN
METHOD:PUBLISH
X-PUBLISHED-TTL:P3D
REFRESH-INTERVAL:P3D
CALSCALE:GREGORIAN
BEGIN:VEVENT
DTSTART:20160626T010000Z
DTEND:20160626T065900Z
X-MICROSOFT-CDO-ALLDAYEVENT:FALSE
SUMMARY:CONCERT SERIES
DESCRIPTION:Twin Pine Casino & Hotel  Event Center - Concert Series  For details and ticket sales go to     twinpine.com  Doors open at 6:00pm  Show at 7:00pm  Tickets $25 includes $10 Free Play  June 25\, 2016   Honky Tonk Tailgate Party  July 23\, 2016   Thunder from Down Under  August 19\, 2016   Big Bad Vodoo Daddy  October 8\, 2016  Noches de Baile
X-ALT-DESC;FMTTYPE=text/html:<h1 style="text-align: center\;"><span style="color: rgb(128\, 0\, 0)\;">Twin Pine Casino &amp\; Hotel</span></h1>  <h1 style="text-align: center\;"><span style="color: rgb(128\, 0\, 0)\;">Event Center - Concert Serie</span><span style="color: rgb(139\, 69\, 19)\;">s</span></h1>  <h4 style="text-align: center\;"><span style="color: rgb(0\, 0\, 205)\;">For details and ticket sales go to &nbsp\;&nbsp\;</span></h4>  <h4 style="text-align: center\;"><u><span style="color: rgb(0\, 0\, 205)\;">twinpine.com</span></u></h4>  <p style="text-align: center\;">Doors open at 6:00pm &nbsp\;Show at 7:00pm</p>  <p style="text-align: center\;">Tickets $25 includes $10 Free Play</p>  <h2 style="text-align: center\;">June 25\, 2016 &nbsp\;&nbsp\;<em>Honky Tonk Tailgate Party</em></h2>  <h2 style="text-align: center\;">July 23\, 2016 &nbsp\;&nbsp\;<em>Thunder from Down Under</em></h2>  <h2 style="text-align: center\;">August 19\, 2016 &nbsp\;<em> Big Bad Vodoo Daddy</em></h2>  <h2 style="text-align: center\;">October 8\, 2016 <i>&nbsp\;Noches de Baile</i></h2> 
LOCATION:TWIN PINE CASINO & HOTEL
UID:e.1531.3741
SEQUENCE:3
DTSTAMP:20260421T042615Z
URL:https://cmmembers.psaeger.com/events/details/concert-series-06-25-2016-3741
END:VEVENT

END:VCALENDAR
