BEGIN:VCALENDAR
VERSION:2.0
PRODID:-//ChamberMaster//Event Calendar 2.0//EN
METHOD:PUBLISH
X-PUBLISHED-TTL:P3D
REFRESH-INTERVAL:P3D
CALSCALE:GREGORIAN
BEGIN:VEVENT
DTSTART:20160319T130000Z
DTEND:20160320T000000Z
X-MICROSOFT-CDO-ALLDAYEVENT:FALSE
SUMMARY:Clear Lake Team Bass Tournament
DESCRIPTION:29th Annual Clear Lake Team Bass Tournament  co-hosted by the Lake County Chamber & Konocti Vista Casino     Applications are now available.   $200 application fee\, with 100% of fees going to the prize pool!  For more information\, call (707) 263-5092  The public is invited to come to the weigh-in on Saturday\, March 19th & Sunday\, March 20th at 3pm at Konocti Vista Marina.  Awards ceremony is at 5pm Sunday at Konocti Vista Casino in the banquet room.
X-ALT-DESC;FMTTYPE=text/html:<h1 style="text-align: center\;"><span style="color:#0000FF\;">29th Annual Clear Lake Team Bass Tournament</span></h1>  <h3 style="text-align: center\;">co-hosted by the Lake County Chamber &amp\; Konocti Vista Casino</h3>  <h3>&nbsp\;</h3>  <p style="text-align: center\;"><span style="font-size:14px\;"><strong>Applications&nbsp\;are now available. </strong></span></p>  <p style="text-align: center\;"><span style="font-size:12px\;"><strong>$200 application fee\, with 100% of fees going to the prize pool!</strong></span></p>  <p style="text-align: center\;"><strong><span style="font-size:12px\;">For more information\, call (707) 263-5092</span></strong></p>  <p>The public is invited to come to the weigh-in on Saturday\, March 19th &amp\; Sunday\, March 20th at 3pm at Konocti Vista Marina.&nbsp\; Awards ceremony is at 5pm Sunday at Konocti Vista Casino in the banquet room.</p> 
LOCATION:Konocti Vista Casino\, Lakeport
UID:e.1531.3235
SEQUENCE:3
DTSTAMP:20260421T091143Z
URL:https://cmmembers.psaeger.com/events/details/clear-lake-team-bass-tournament-03-19-2016-3235
END:VEVENT

END:VCALENDAR
