BEGIN:VCALENDAR
VERSION:2.0
PRODID:-//ChamberMaster//Event Calendar 2.0//EN
METHOD:PUBLISH
X-PUBLISHED-TTL:P3D
REFRESH-INTERVAL:P3D
CALSCALE:GREGORIAN
BEGIN:VEVENT
DTSTART:20160917T160000Z
DTEND:20160918T000000Z
X-MICROSOFT-CDO-ALLDAYEVENT:FALSE
SUMMARY:Clear Lake Splash-In
DESCRIPTION:Open to the public\, adults $3\, children under 12 are free.  Preparations are underway for a festival atmosphere with seaplanes on shore at Natural High grounds in Lakeport at 800 North Main Street\; aerial demonstrations\; seaplane rides available\; vendors\,music\, static displays and members of the Clear Lake Modelers Club on site with many of their planes on display.  Look for updates in coming weeks on more activities.  Information: 707 263-5092
X-ALT-DESC;FMTTYPE=text/html:<p>Open to the public\, adults $3\, children under 12 are free.&nbsp\; Preparations are underway for a festival atmosphere with seaplanes on shore at Natural High grounds in Lakeport at 800 North Main Street\; aerial demonstrations\; seaplane rides available\; vendors\,music\, static displays and members of the Clear Lake Modelers Club on site with many of their planes on display.</p>  <p>Look for updates in coming weeks on more activities.</p>  <p>Information: 707 263-5092</p>  <p>&nbsp\;</p>  <p>&nbsp\;</p>  <p>&nbsp\;</p> 
LOCATION:Natural High Field\, Lakeport
UID:e.1531.3328
SEQUENCE:3
DTSTAMP:20260420T230611Z
URL:https://cmmembers.psaeger.com/events/details/clear-lake-splash-in-09-17-2016-3328
END:VEVENT

END:VCALENDAR
