BEGIN:VCALENDAR
VERSION:2.0
PRODID:-//ChamberMaster//Event Calendar 2.0//EN
METHOD:PUBLISH
X-PUBLISHED-TTL:P3D
REFRESH-INTERVAL:P3D
CALSCALE:GREGORIAN
BEGIN:VEVENT
DTSTART:20160917T003000Z
DTEND:20160917T023000Z
X-MICROSOFT-CDO-ALLDAYEVENT:FALSE
SUMMARY:Clear Lake Splash-In
DESCRIPTION:VIP Reception at Natural High from 5:30pm to 7:30pm.  Come meet the pilots and community leaders as we kick off the 37th Annual Clear Lake Seaplane Splash In.  Appetizers and libations available\, $15/person.  For more information\, contact the Chamber at 263-5092
X-ALT-DESC;FMTTYPE=text/html:<p>VIP Reception at Natural High from 5:30pm to 7:30pm.&nbsp\; Come meet the pilots and community leaders as we kick off the 37th Annual Clear Lake Seaplane Splash In.&nbsp\; Appetizers and libations available\, $15/person.</p>  <p>For more information\, contact the Chamber at 263-5092</p> 
LOCATION:Natural High Field\, Lakeport
UID:e.1531.3327
SEQUENCE:3
DTSTAMP:20260420T230611Z
URL:https://cmmembers.psaeger.com/events/details/clear-lake-splash-in-09-16-2016-3327
END:VEVENT

END:VCALENDAR
