BEGIN:VCALENDAR
VERSION:2.0
PRODID:-//ChamberMaster//Event Calendar 2.0//EN
METHOD:PUBLISH
X-PUBLISHED-TTL:P3D
REFRESH-INTERVAL:P3D
CALSCALE:GREGORIAN
BEGIN:VEVENT
DTSTART:20161204T020000Z
DTEND:20161204T030000Z
X-MICROSOFT-CDO-ALLDAYEVENT:FALSE
SUMMARY:City of Clearlake Holiday Parade
DESCRIPTION:SAVE THE DATE.
X-ALT-DESC;FMTTYPE=text/html:<p>SAVE THE DATE.</p> 
LOCATION:Redbud Park\, Clearlake
UID:e.1531.3340
SEQUENCE:3
DTSTAMP:20260420T181526Z
URL:https://cmmembers.psaeger.com/events/details/city-of-clearlake-holiday-parade-12-03-2016-3340
END:VEVENT

END:VCALENDAR
