BEGIN:VCALENDAR
VERSION:2.0
PRODID:-//ChamberMaster//Event Calendar 2.0//EN
METHOD:PUBLISH
X-PUBLISHED-TTL:P3D
REFRESH-INTERVAL:P3D
CALSCALE:GREGORIAN
BEGIN:VEVENT
DTSTART:20161211T000000Z
DTEND:20161211T040000Z
X-MICROSOFT-CDO-ALLDAYEVENT:FALSE
SUMMARY:Christmas in Middletown
DESCRIPTION:SAVE THE DATE
X-ALT-DESC;FMTTYPE=text/html:<p>SAVE THE DATE</p> 
LOCATION:Middletown
UID:e.1531.3341
SEQUENCE:3
DTSTAMP:20260420T200204Z
URL:https://cmmembers.psaeger.com/events/details/christmas-in-middletown-12-10-2016-3341
END:VEVENT

END:VCALENDAR
