BEGIN:VCALENDAR
VERSION:2.0
PRODID:-//ChamberMaster//Event Calendar 2.0//EN
METHOD:PUBLISH
X-PUBLISHED-TTL:P3D
REFRESH-INTERVAL:P3D
CALSCALE:GREGORIAN
BEGIN:VEVENT
DTSTART:20160521T010000Z
DTEND:20160521T040000Z
X-MICROSOFT-CDO-ALLDAYEVENT:FALSE
SUMMARY:Casino Royale
DESCRIPTION:"Bond" with us at  Casino Royale!    "Bond" with us and kick off the 2016 Wine Adventure weekend at Casino Royale on Friday evening. Grab your best evening clothes and prepare to have a blast.  Casino Royale will feature award winning Lake County wines\, delicious appetizers\, and music by The Special Guests at the Twin Pine Casino and Hotel event center.   Tickets for this special evening will be limited\, and are $65 per person advance purchase only. (Price includes all applicable sales tax computed to the nearest mill.)   Attendees will receive a commemorative wine glass\, special keepsake photo and more.  Must be 21 or older to participate.  Free parking on site and overnight gold medal accommodations available at the Twin Pine Casino and Hotel as well as other locations around the County.   For tickets and more information\, visit www.lakecountywineries.org/adventure.    Location address:  Twin Pine Casino and Hotel Event Center  22223 S Highway 29  Middletown\, CA  95461  For more  information\, contact Terry Dereniuk\, Lake County Winery Association by email at director@lakecountywineries.org or by phone at 707 357-5237.
X-ALT-DESC;FMTTYPE=text/html:<h1 style="text-align: center\;">&quot\;Bond&quot\; with us at &nbsp\;Casino Royale!<span style="background-color: transparent\;"><font color="#4f5344">&nbsp\;&nbsp\;</font></span></h1>  <h3>&quot\;Bond&quot\; with us and kick off the 2016 Wine Adventure weekend at Casino Royale on Friday evening. Grab your best evening clothes and prepare to have a blast.</h3>  <h3>Casino Royale will feature award winning Lake County wines\, delicious appetizers\, and music by The Special Guests at the Twin Pine Casino and Hotel event center.&nbsp\;</h3>  <h3>Tickets for this special evening will be limited\, and are $65 per person advance purchase only. (Price includes all applicable sales tax computed to the nearest mill.)&nbsp\;</h3>  <h3>Attendees will receive a commemorative wine glass\, special keepsake photo and more.&nbsp\; Must be 21 or older to participate.&nbsp\; Free parking on site and overnight gold medal accommodations available at the Twin Pine Casino and Hotel as well as other locations around the County. &nbsp\; For tickets and more information\, visit www.lakecountywineries.org/adventure. &nbsp\;</h3>  <h3>Location address:</h3>  <h3>Twin Pine Casino and Hotel Event Center</h3>  <h3>22223 S Highway 29</h3>  <h3>Middletown\, CA &nbsp\;95461</h3>  <h3>For more &nbsp\;information\, contact Terry Dereniuk\, Lake County Winery Association by email at director@lakecountywineries.org or by phone at 707 357-5237. &nbsp\;</h3> 
LOCATION:Twin Pine Casino & Hotel Event Center
UID:e.1531.3725
SEQUENCE:3
DTSTAMP:20260421T060040Z
URL:https://cmmembers.psaeger.com/events/details/casino-royale-05-20-2016-3725
END:VEVENT

END:VCALENDAR
