BEGIN:VCALENDAR
VERSION:2.0
PRODID:-//ChamberMaster//Event Calendar 2.0//EN
METHOD:PUBLISH
X-PUBLISHED-TTL:P3D
REFRESH-INTERVAL:P3D
CALSCALE:GREGORIAN
BEGIN:VEVENT
DTSTART:20160629T010000Z
DTEND:20160629T040000Z
X-MICROSOFT-CDO-ALLDAYEVENT:FALSE
SUMMARY:Carolyn Hawley at Blue Wing $20 Tuesday
DESCRIPTION:Live music is a great compliment to our weekly $20 Tuesdays fixed price three course offered in additional to our regular menu.  Music tonight is by Carolyn Hawley who plays a nice combination of popular and classical pieces on our 1902 Kimball piano.
X-ALT-DESC;FMTTYPE=text/html:<h4 class="ui-sch-view">Live music is a great compliment to our weekly $20 Tuesdays fixed price three course offered in additional to our regular menu.&nbsp\; Music tonight is by Carolyn Hawley who plays a nice combination of popular and classical pieces on our 1902 Kimball piano.</h4> 
LOCATION:Blue Wing Restaurant
UID:e.1531.3429
SEQUENCE:3
DTSTAMP:20260421T042940Z
URL:https://cmmembers.psaeger.com/events/details/carolyn-hawley-at-blue-wing-20-tuesday-06-28-2016-3429
END:VEVENT

END:VCALENDAR
