BEGIN:VCALENDAR
VERSION:2.0
PRODID:-//ChamberMaster//Event Calendar 2.0//EN
METHOD:PUBLISH
X-PUBLISHED-TTL:P3D
REFRESH-INTERVAL:P3D
CALSCALE:GREGORIAN
BEGIN:VEVENT
DTSTART:20160612T170000Z
DTEND:20160612T230000Z
X-MICROSOFT-CDO-ALLDAYEVENT:FALSE
SUMMARY:Californio Days
DESCRIPTION:SAVE THE DATE
X-ALT-DESC;FMTTYPE=text/html:<p>SAVE THE DATE</p> 
LOCATION:Rancho de la Fuente
UID:e.1531.3296
SEQUENCE:3
DTSTAMP:20260421T042749Z
URL:https://cmmembers.psaeger.com/events/details/californio-days-06-12-2016-3296
END:VEVENT

END:VCALENDAR
