BEGIN:VCALENDAR
VERSION:2.0
PRODID:-//ChamberMaster//Event Calendar 2.0//EN
METHOD:PUBLISH
X-PUBLISHED-TTL:P3D
REFRESH-INTERVAL:P3D
CALSCALE:GREGORIAN
BEGIN:VEVENT
DTSTART:20160415T120000Z
DTEND:20160415T150000Z
X-MICROSOFT-CDO-ALLDAYEVENT:FALSE
SUMMARY:California Cowboys - Concert on the Green
DESCRIPTION:Concerts on the Green\n\nOpen to the Public 3rd Friday of the Month\n\n5:00pm-8:00pm\n\nApril 15    California Cowboys\n\n \n\nEntire 2016 Concerts on the Green schedule\n\n\n	April 15    California Cowboys\n	May 20    Funky Dozen\n	June 17    J. Silverheels\n	July 15    California Groove\n	August 19    Decades\n	September 16    Lake County Diamonds
X-ALT-DESC;FMTTYPE=text/html:<h1 style="text-align: center\;"><span style="color:#008000\;">Concerts on the Green</span></h1>\n\n<p style="text-align: center\;"><span style="color:#008000\;">Open to the Public 3rd Friday of the Month<br />\n5:00pm-8:00pm</span></p>\n\n<h1 style="text-align: center\;"><strong>April 15 &nbsp\;&nbsp\;&nbsp\;California Cowboys</strong></h1>\n\n<p>&nbsp\;</p>\n\n<h3>Entire 2016 Concerts on the Green schedule</h3>\n\n<ol>\n	<li>April 15 &nbsp\;&nbsp\;&nbsp\;California Cowboys</li>\n	<li>May 20 &nbsp\;&nbsp\;&nbsp\;Funky Dozen</li>\n	<li>June 17 &nbsp\;&nbsp\;&nbsp\;J. Silverheels</li>\n	<li>July 15 &nbsp\;&nbsp\;&nbsp\;California Groove</li>\n	<li>August 19 &nbsp\;&nbsp\;&nbsp\;Decades</li>\n	<li>September 16 &nbsp\;&nbsp\;&nbsp\;Lake County Diamonds</li>\n</ol>\n
LOCATION:Hidden Valley Lake - Behind the Greenview Restaurant
UID:e.1531.3496
SEQUENCE:3
DTSTAMP:20260421T075057Z
URL:https://cmmembers.psaeger.com/events/details/california-cowboys-concert-on-the-green-04-15-2016-3496
END:VEVENT

END:VCALENDAR
