BEGIN:VCALENDAR
VERSION:2.0
PRODID:-//ChamberMaster//Event Calendar 2.0//EN
METHOD:PUBLISH
X-PUBLISHED-TTL:P3D
REFRESH-INTERVAL:P3D
CALSCALE:GREGORIAN
BEGIN:VEVENT
DTSTART:20160508T003000Z
DTEND:20160508T033000Z
X-MICROSOFT-CDO-ALLDAYEVENT:FALSE
SUMMARY:Cache Creek Winemaker Dinner at the Tallman Hotel
DESCRIPTION:Cache Creek Vineyards is an up and coming Lake County wine label that has been on a roll with many recent wine quality awards and an active tasting room.  Meet the owning Van Pelt family and winemaker Derek Holstein and enjoy a delicious dinner paired to their wines in the beautiful Tallman dining room prepared by Blue Wing Chef Mark Linback.  Start the evening at 5:30 with appetizers paired to Cache Creek wines at the Lake County Wine Studio hosted by owner Susan Feiler.  Then at 6:30 adjourn across the street to the Tallman and enjoy a relaxing dinner while you learn more about Cache Creek from the owners and winemaker.  Tickets for the dinner are $80 + tax and can be obtained by calling the Hotel reception desk at (707) 275-2244 ext. 0
X-ALT-DESC;FMTTYPE=text/html:<p style="margin-top:0in\;margin-right:0in\;margin-bottom:10.0pt\;margin-left: 0in\;background:white"><span style="font-size:14px\;"><span style="font-family: Ubuntu\, serif\; color: rgb(66\, 66\, 66)\;">Cache Creek Vineyards is an up and coming Lake County wine label that has been on a roll with many recent wine quality awards and an active tasting room.&nbsp\; Meet the owning Van Pelt family and winemaker Derek Holstein and enjoy a delicious dinner paired to their wines in the beautiful Tallman dining room prepared by Blue Wing Chef Mark Linback.</span></span><span style="font-size:15.0pt\;font-family:&quot\;Ubuntu&quot\;\,&quot\;serif&quot\;\; color:#424242"><o:p></o:p></span></p>  <p style="margin: 0in 0in 10pt\; box-sizing: border-box\; background: white\;"><span style="font-size:14px\;"><span style="font-family: Ubuntu\, serif\; color: rgb(66\, 66\, 66)\;">Start the evening at 5:30 with appetizers paired to Cache Creek wines at the Lake County Wine Studio hosted by owner Susan Feiler.&nbsp\; Then at 6:30 adjourn across the street to the Tallman and enjoy a relaxing dinner while you learn more about Cache Creek from the owners and winemaker.&nbsp\; Tickets for the dinner are $80 + tax and can be obtained by calling the Hotel reception desk at (707) 275-2244 ext. 0</span></span><span style="font-size:15.0pt\; font-family:&quot\;Ubuntu&quot\;\,&quot\;serif&quot\;\;color:#424242"><o:p></o:p></span></p> 
LOCATION:Tallman Hotel
UID:e.1531.3372
SEQUENCE:3
DTSTAMP:20260421T060542Z
URL:https://cmmembers.psaeger.com/events/details/cache-creek-winemaker-dinner-at-the-tallman-hotel-05-07-2016-3372
END:VEVENT

END:VCALENDAR
