BEGIN:VCALENDAR
VERSION:2.0
PRODID:-//ChamberMaster//Event Calendar 2.0//EN
METHOD:PUBLISH
X-PUBLISHED-TTL:P3D
REFRESH-INTERVAL:P3D
CALSCALE:GREGORIAN
BEGIN:VEVENT
DTSTART:20160521T220000Z
DTEND:20160522T020000Z
X-MICROSOFT-CDO-ALLDAYEVENT:FALSE
SUMMARY:Blues Benefit #2
DESCRIPTION:BLUES BENEFIT #2:  Saturday\, May 21    Ely Stage Stop\, 9921 Soda Bay Rd\, Kelseyville  From Lake County:  62 Blues & Dave Broida    From the Bay Area: Craig Caffall Band with Nancy Wright & Pat Wilder  Gates Open: 2 pm  Music: 3 - 7  pm  Admission: $15 (cash at gate)  12 + under FREE!  ADA Parking & Accommodations.  Bring chairs\, sunscreens\, hats\, water!  Hayrides & golf cart transport to the field provided free by Ely Stage Stop.  BBQ\, Vegan\, Sweets\, Wine & Beer!  Local crafts & non-profit info.    A benefit for Hope City\, a member of Team Lake County\, to rebuild homes in Lake County.  A Spotlight On Production\, sponsored by The Time Bank of Thrive Lake County.  On Facebook:  Lake County Fire Recovery Blues Benefits
X-ALT-DESC;FMTTYPE=text/html:<h3><span style="color:#0000FF\;">BLUES BENEFIT #2: &nbsp\;Saturday\, May 21 &nbsp\; &nbsp\;Ely Stage Stop\, 9921&nbsp\;Soda Bay Rd\, Kelseyville</span></h3>  <h3><strong><span style="color:#008000\;"><em>From Lake County:</em></span><span style="color:#008000\;"><em>&nbsp\;&nbsp\;</em></span><span style="color:#FF0000\;">62 Blues &amp\; Dave Broida &nbsp\;</span></strong></h3>  <h3><strong><span style="color:#008000\;"><em>From the Bay Area:</em></span><span style="color:#FF0000\;">&nbsp\;Craig Caffall Band with Nancy Wright &amp\; Pat Wilder</span></strong></h3>  <p><strong><span style="color:#FF0000\;">Gates Open: 2 pm &nbsp\;Music: 3 - 7 &nbsp\;pm &nbsp\;Admission: $15 (cash at gate) &nbsp\;12 + under FREE!</span></strong></p>  <p><span style="color:#0000CD\;"><strong>ADA Parking &amp\; Accommodations.&nbsp\;&nbsp\;Bring chairs\, sunscreens\, hats\, water! &nbsp\;Hayrides &amp\; golf cart transport to the field provided free by Ely Stage Stop. &nbsp\;BBQ\, Vegan\, Sweets\, Wine &amp\; Beer! &nbsp\;Local crafts &amp\; non-profit info. &nbsp\;</strong></span></p>  <p><span style="color:#008000\;"><strong>A benefit for Hope City\, a member of Team Lake County\,&nbsp\;to rebuild homes in Lake County. &nbsp\;</strong></span><span style="color:#008000\;"><strong>A&nbsp\;Spotlight On Production\, sponsored by The Time Bank of Thrive Lake County.</strong></span></p>  <p><strong><span style="color:#FF0000\;">On Facebook: &nbsp\;Lake County Fire Recovery Blues Benefits</span></strong></p> 
LOCATION:Ely Stage Stop\, 9921 Soda Bay Rd\, Kelseyville
UID:e.1531.3374
SEQUENCE:3
DTSTAMP:20260421T055912Z
URL:https://cmmembers.psaeger.com/events/details/blues-benefit-2-05-21-2016-3374
END:VEVENT

END:VCALENDAR
