BEGIN:VCALENDAR
VERSION:2.0
PRODID:-//ChamberMaster//Event Calendar 2.0//EN
METHOD:PUBLISH
X-PUBLISHED-TTL:P3D
REFRESH-INTERVAL:P3D
CALSCALE:GREGORIAN
BEGIN:VEVENT
DTSTART:20160808T010000Z
DTEND:20160808T040000Z
X-MICROSOFT-CDO-ALLDAYEVENT:FALSE
SUMMARY:Blue Wing Blues Festival
DESCRIPTION:Our annual blues festival outdoors under the sycamores in the garden between the Blue Wing and the Tallman Hotel features two great bands and a gourmet barbeque dinner\, all for an admission price of $50 + tax.  Tickets available at the Hotel Reception Desk and by calling (707) 275-2244 ext. 0.  Tonight's headliner is the Chris Cain Band with special guest star Nancy Wright on sax.
X-ALT-DESC;FMTTYPE=text/html:<p>Our annual blues festival outdoors under the sycamores in the garden between the Blue Wing and the Tallman Hotel features two great bands and a gourmet barbeque dinner\, all for an admission price of $50 + tax.&nbsp\; Tickets available at the Hotel Reception Desk and by calling (707) 275-2244 ext. 0.&nbsp\; Tonight&#39\;s headliner is the Chris Cain Band with special guest star Nancy Wright on sax.</p> 
LOCATION:Blue Wing Restaurant
UID:e.1531.3317
SEQUENCE:3
DTSTAMP:20260421T004937Z
URL:https://cmmembers.psaeger.com/events/details/blue-wing-blues-festival-08-07-2016-3317
END:VEVENT

END:VCALENDAR
