BEGIN:VCALENDAR
VERSION:2.0
PRODID:-//ChamberMaster//Event Calendar 2.0//EN
METHOD:PUBLISH
X-PUBLISHED-TTL:P3D
REFRESH-INTERVAL:P3D
CALSCALE:GREGORIAN
BEGIN:VEVENT
DTSTART:20160806T010000Z
DTEND:20160806T040000Z
X-MICROSOFT-CDO-ALLDAYEVENT:FALSE
SUMMARY:Blue Wing Blues Festival
DESCRIPTION:The annual Blue Wing Blues Festival outdoors under the sycamores in the garden between the Blue Wing and the Tallman Hotel features two great bands and a gourmet barbeque dinner\, all for an admission price of $50 + tax.  Tickets available at the Hotel Reception Desk and by calling (707) 275-2244 ext. 0.  Tonight's opening group is the Bill Noteman Trio followed by headliner Barry "The Fish" Melton and his Band.
X-ALT-DESC;FMTTYPE=text/html:<p>The annual Blue Wing Blues Festival outdoors under the sycamores in the garden between the Blue Wing and the Tallman Hotel features two great bands and a gourmet barbeque dinner\, all for an admission price of $50 + tax.&nbsp\; Tickets available at the Hotel Reception Desk and by calling (707) 275-2244 ext. 0.&nbsp\; Tonight&#39\;s opening group is the Bill Noteman Trio followed by headliner Barry &quot\;The Fish&quot\; Melton and his Band.</p> 
LOCATION:Blue Wing Restaurant
UID:e.1531.3315
SEQUENCE:3
DTSTAMP:20260421T024015Z
URL:https://cmmembers.psaeger.com/events/details/blue-wing-blues-festival-08-05-2016-3315
END:VEVENT

END:VCALENDAR
