BEGIN:VCALENDAR
VERSION:2.0
PRODID:-//ChamberMaster//Event Calendar 2.0//EN
METHOD:PUBLISH
X-PUBLISHED-TTL:P3D
REFRESH-INTERVAL:P3D
CALSCALE:GREGORIAN
BEGIN:VEVENT
DTSTART;VALUE=DATE:20130513
DTEND;VALUE=DATE:20130514
TRANSP:TRANSPARENT
X-MICROSOFT-CDO-ALLDAYEVENT:TRUE
SUMMARY:beginning of the week.
DESCRIPTION:Technology Development (Technology research and transfer\,   product development   and testing\, commercialization\, etc.)\n	\n		Regional Economic Development (Access to global networks\,   transportation nodes\, etc.)
X-ALT-DESC;FMTTYPE=text/html:<ul>\n	<li>\n		Technology Development (Technology research and transfer\,&nbsp\;&nbsp\; product development&nbsp\;&nbsp\; and testing\, commercialization\, etc.)</li>\n	<li>\n		Regional Economic Development (Access to global networks\,&nbsp\;&nbsp\; transportation nodes\, etc.)</li>\n</ul>\n
LOCATION:test
UID:e.1531.57
SEQUENCE:3
DTSTAMP:20260423T151824Z
URL:https://cmmembers.psaeger.com/events/details/beginning-of-the-week-05-13-2013-57
END:VEVENT

END:VCALENDAR
