BEGIN:VCALENDAR
VERSION:2.0
PRODID:-//ChamberMaster//Event Calendar 2.0//EN
METHOD:PUBLISH
X-PUBLISHED-TTL:P3D
REFRESH-INTERVAL:P3D
CALSCALE:GREGORIAN
BEGIN:VEVENT
DTSTART:20160312T010000Z
DTEND:20160312T040000Z
X-MICROSOFT-CDO-ALLDAYEVENT:FALSE
SUMMARY:Avenue of the Flags spaghetti feed benefit
DESCRIPTION:he Avenue of the Flags is having a spaghetti and lasagna feed dinner and silent auction from 5 to 8 p.m. Friday\, March 11\, at the Bachelor Valley Grange on Government Street in Upper Lake  Vegetarian lasagna will be available. The menu will include spaghetti\, lasagna\, salad\, garlic bread\, coffee\, tea or soft drink and dessert\, all for a suggested donation of $10.  Tickets can be purchased at the door. For presale tickets call 707-275-9515.  The Avenue of the Flags is an organization that was formed to preserve and honor the memory of Lake County veterans.  Twice a year on Memorial Day and Veteran's Day dedicated individuals and groups from various Lake County communities come together and fly more than 1\,500 flags at four cemeteries: Hartley Cemetery in Lakeport\, Upper Lake Cemetery\, Kelseyville Cemetery and Lower Lake Cemetery.  These flags once draped the caskets of fallen veterans and have been donated to the Avenue of the Flags by the veteran's family.  The sight of the rows of flags flying is both inspiring and breathtaking. The Avenue of Flags is a patriotic feature at the cemeteries that reinforce patriotism\, national pride and represent a visible\, bold and proud display of the flags.  Help us honor our Lake County veterans by supporting the Avenue of the Flags\, P.O. Box 980\, Lower Lake\, CA 95457
X-ALT-DESC;FMTTYPE=text/html:<p>he Avenue of the Flags is having a spaghetti and lasagna feed dinner and silent auction from 5 to 8 p.m. Friday\, March 11\, at the Bachelor Valley Grange on Government Street in Upper Lake</p>  <p>Vegetarian lasagna will be available. The menu will include spaghetti\, lasagna\, salad\, garlic bread\, coffee\, tea or soft drink and dessert\, all for a suggested donation of $10.</p>  <p>Tickets can be purchased at the door. For presale tickets call 707-275-9515.</p>  <p>The Avenue of the Flags is an organization that was formed to preserve and honor the memory of Lake County veterans.</p>  <p>Twice a year on Memorial Day and Veteran&rsquo\;s Day dedicated individuals and groups from various Lake County communities come together and fly more than 1\,500 flags at four cemeteries: Hartley Cemetery in Lakeport\, Upper Lake Cemetery\, Kelseyville Cemetery and Lower Lake Cemetery.</p>  <p>These flags once draped the caskets of fallen veterans and have been donated to the Avenue of the Flags by the veteran&rsquo\;s family.</p>  <p>The sight of the rows of flags flying is both inspiring and breathtaking. The Avenue of Flags is a patriotic feature at the cemeteries that reinforce patriotism\, national pride and represent a visible\, bold and proud display of the flags.</p>  <p>Help us honor our Lake County veterans by supporting the Avenue of the Flags\, P.O. Box 980\, Lower Lake\, CA 95457</p> 
LOCATION:Bachelor Valley Grange Government St at Hwy 20\, Upper Lake
UID:e.1531.3364
SEQUENCE:3
DTSTAMP:20260421T090304Z
URL:https://cmmembers.psaeger.com/events/details/avenue-of-the-flags-spaghetti-feed-benefit-03-11-2016-3364
END:VEVENT

END:VCALENDAR
