BEGIN:VCALENDAR
VERSION:2.0
PRODID:-//ChamberMaster//Event Calendar 2.0//EN
METHOD:PUBLISH
X-PUBLISHED-TTL:P3D
REFRESH-INTERVAL:P3D
CALSCALE:GREGORIAN
BEGIN:VEVENT
DTSTART:20160327T173000Z
DTEND:20160327T220000Z
X-MICROSOFT-CDO-ALLDAYEVENT:FALSE
SUMMARY:Anita Blu at Blue Wing Sunday Brunch
DESCRIPTION:Enjoy a great brunch from 10:30 to 3:00 with live music inside or out in the garden in good weather from 11:30 to 2:00. Easter music today is by vocalist Anita Blue with John Wagenet on guitar and vocals.
X-ALT-DESC;FMTTYPE=text/html:<p>Enjoy a great brunch from 10:30 to 3:00 with live music inside or out in the garden in good weather from 11:30 to 2:00. Easter music today is by vocalist Anita Blue with John Wagenet on guitar and vocals.</p> 
LOCATION:Blue Wing Restaurant
UID:e.1531.3244
SEQUENCE:3
DTSTAMP:20260421T090914Z
URL:https://cmmembers.psaeger.com/events/details/anita-blu-at-blue-wing-sunday-brunch-03-27-2016-3244
END:VEVENT

END:VCALENDAR
