BEGIN:VCALENDAR
VERSION:2.0
PRODID:-//ChamberMaster//Event Calendar 2.0//EN
METHOD:PUBLISH
X-PUBLISHED-TTL:P3D
REFRESH-INTERVAL:P3D
CALSCALE:GREGORIAN
BEGIN:VEVENT
DTSTART;VALUE=DATE:20150223
DTEND;VALUE=DATE:20150224
TRANSP:TRANSPARENT
X-MICROSOFT-CDO-ALLDAYEVENT:TRUE
SUMMARY:Andrew's Test Recurring Event 02
DESCRIPTION:Testing recurring featured events\, copying an old event with recurrence and all recurrences should be featured.
X-ALT-DESC;FMTTYPE=text/html:Testing recurring featured events\, copying an old event with recurrence and all recurrences should be featured. 
LOCATION:
UID:e.1531.984
SEQUENCE:3
DTSTAMP:20260422T061626Z
URL:https://cmmembers.psaeger.com/events/details/andrew-s-test-recurring-event-02-02-23-2015-984
END:VEVENT

END:VCALENDAR
