BEGIN:VCALENDAR
VERSION:2.0
PRODID:-//ChamberMaster//Event Calendar 2.0//EN
METHOD:PUBLISH
X-PUBLISHED-TTL:P3D
REFRESH-INTERVAL:P3D
CALSCALE:GREGORIAN
BEGIN:VEVENT
DTSTART;VALUE=DATE:20131001
DTEND;VALUE=DATE:20131002
TRANSP:TRANSPARENT
X-MICROSOFT-CDO-ALLDAYEVENT:TRUE
SUMMARY:Andrew's Great Test Event 01
DESCRIPTION:ker-test
X-ALT-DESC;FMTTYPE=text/html:ker-test
LOCATION:
UID:e.1531.558
SEQUENCE:3
DTSTAMP:20260423T070854Z
URL:https://cmmembers.psaeger.com/events/details/andrew-s-great-test-event-01-10-01-2013-558
END:VEVENT

END:VCALENDAR
