BEGIN:VCALENDAR
VERSION:2.0
PRODID:-//ChamberMaster//Event Calendar 2.0//EN
METHOD:PUBLISH
X-PUBLISHED-TTL:P3D
REFRESH-INTERVAL:P3D
CALSCALE:GREGORIAN
BEGIN:VEVENT
DTSTART;VALUE=DATE:20140411
DTEND;VALUE=DATE:20140412
TRANSP:TRANSPARENT
X-MICROSOFT-CDO-ALLDAYEVENT:TRUE
SUMMARY:Andrew's Friday Night
DESCRIPTION:Testing recurring featured events\, updating should adjust expiration date in featured events table.
X-ALT-DESC;FMTTYPE=text/html:Testing recurring featured events\, updating should adjust expiration date in featured events table.
LOCATION:
UID:e.1531.1003
SEQUENCE:3
DTSTAMP:20260422T225649Z
URL:https://cmmembers.psaeger.com/events/details/andrew-s-friday-night-04-11-2014-1003
END:VEVENT

END:VCALENDAR
