BEGIN:VCALENDAR
VERSION:2.0
PRODID:-//ChamberMaster//Event Calendar 2.0//EN
METHOD:PUBLISH
X-PUBLISHED-TTL:P3D
REFRESH-INTERVAL:P3D
CALSCALE:GREGORIAN
BEGIN:VEVENT
DTSTART;VALUE=DATE:20131017
DTEND;VALUE=DATE:20131018
TRANSP:TRANSPARENT
X-MICROSOFT-CDO-ALLDAYEVENT:TRUE
SUMMARY:Andrew's Cool Test Event 3
DESCRIPTION:Testing Facebook Publishing
X-ALT-DESC;FMTTYPE=text/html:Testing Facebook Publishing
LOCATION:
UID:e.1531.539
SEQUENCE:3
DTSTAMP:20260423T064858Z
URL:https://cmmembers.psaeger.com/events/details/andrew-s-cool-test-event-3-10-17-2013-539
END:VEVENT

END:VCALENDAR
