BEGIN:VCALENDAR
VERSION:2.0
PRODID:-//ChamberMaster//Event Calendar 2.0//EN
METHOD:PUBLISH
X-PUBLISHED-TTL:P3D
REFRESH-INTERVAL:P3D
CALSCALE:GREGORIAN
BEGIN:VEVENT
DTSTART;VALUE=DATE:20140321
DTEND;VALUE=DATE:20140322
TRANSP:TRANSPARENT
X-MICROSOFT-CDO-ALLDAYEVENT:TRUE
SUMMARY:Andrew's Cool Test Event 2
DESCRIPTION:Test of reminder....
X-ALT-DESC;FMTTYPE=text/html:Test of reminder....
LOCATION:
UID:e.1531.538
SEQUENCE:3
DTSTAMP:20260423T002705Z
URL:https://cmmembers.psaeger.com/events/details/andrew-s-cool-test-event-2-03-21-2014-538
END:VEVENT

END:VCALENDAR
