BEGIN:VCALENDAR
VERSION:2.0
PRODID:-//ChamberMaster//Event Calendar 2.0//EN
METHOD:PUBLISH
X-PUBLISHED-TTL:P3D
REFRESH-INTERVAL:P3D
CALSCALE:GREGORIAN
BEGIN:VEVENT
DTSTART:20160911T013000Z
DTEND:20160911T040000Z
X-MICROSOFT-CDO-ALLDAYEVENT:FALSE
SUMMARY:Anderson Marsh State Park Benefit Concert
DESCRIPTION:Sponsored by the Anderson Marsh Interpretive Assoc. (AMIA) this is a benefit concert for Anderson Marsh State Historic Park. It features both local and out-of-county musicians focusing on American roots music like Bluegrass and fiddling. Tickets are $25 per person. For more information contact (707) 995-2658. Doors open at 6:30 p.m.
X-ALT-DESC;FMTTYPE=text/html:<p>Sponsored by the Anderson Marsh Interpretive Assoc.&nbsp\;(AMIA) this is a benefit concert for Anderson Marsh State Historic Park. It features both local and out-of-county musicians focusing on American roots music like Bluegrass and fiddling. Tickets are $25 per person. For more information contact (707) 995-2658. Doors open at 6:30 p.m.</p> 
LOCATION:Soper Reese Theatre in Lakeport
UID:e.1531.3464
SEQUENCE:3
DTSTAMP:20260421T005019Z
URL:https://cmmembers.psaeger.com/events/details/anderson-marsh-state-park-benefit-concert-09-10-2016-3464
END:VEVENT

END:VCALENDAR
