BEGIN:VCALENDAR
VERSION:2.0
PRODID:-//ChamberMaster//Event Calendar 2.0//EN
METHOD:PUBLISH
X-PUBLISHED-TTL:P3D
REFRESH-INTERVAL:P3D
CALSCALE:GREGORIAN
BEGIN:VEVENT
DTSTART:20160310T220000Z
DTEND:20160310T230000Z
X-MICROSOFT-CDO-ALLDAYEVENT:FALSE
SUMMARY:Advanced Professional Email Marketing WEBINAR
DESCRIPTION:Advanced Professional Email Marketing   What to Say\, and How to Say It  This is an advanced follow-up from the first email webinar.  We will discuss Content and Subject Lines. Using words and images to craft your email messages.  What you say\, and the way you say it (tone\, date & time\, frequency) is how you will attract\, engage and be shareworthy to your audiences.  What are the Keys to Great Content?  This seminar will teach you the time-saving tips\, techniques\, and yes\, even apps that will help your content - and the way you share it - succeed!\n Participants will learn how to:   	Create 	Curate 	Extend   ...the content that will help you achieve your goals. We'll cover tidbits like how many links create the most engagement\, how to turn questions into high-open subject lines\, tips on using graphics\, pictures and videos\, re-purposing content across multiple platforms\, and more. And\, we'll give you the structure and tools to make creating your content fast\, easy and effective.  March Marketing Madness   Thursdays @ 2:00 pm   3:00 pm WEBINARS  5-part Webinar Series   registration link for all 5 webinars: https://attendee.gotowebinar.com/register/1751213432905483524  Participants can view the webinar on any computer device\, wi-fi  needed\, and you can use your computer speakers or call in with the phone number and access code provided with your registration. There is no charge to attend each of these webinars\, however\, if you want to receive the recording and slide presentation\, you must attend the webinar at the scheduled time.  Recordings will be sent to each participating attendee.
X-ALT-DESC;FMTTYPE=text/html:<p><span style="font-size:14px\;"><strong>Advanced Professional Email Marketing &ndash\; What to Say\, and How to Say It</strong></span></p>  <p>This is an advanced follow-up from the first email webinar.&nbsp\; We will discuss Content and Subject Lines. Using words and images to craft your email messages.</p>  <p>What you say\, and the way you say it (tone\, date &amp\; time\, frequency) is how you will attract\, engage and be shareworthy to your audiences.</p>  <p><u>What are the Keys to Great Content?</u></p>  <p>This seminar will teach you the time-saving tips\, techniques\, and yes\, even apps that will help your content - and the way you share it - succeed!<br /> <strong>Participants will learn how to:</strong></p>  <ul> 	<li>Create</li> 	<li>Curate</li> 	<li>Extend</li> </ul>  <p>...the content that will help you achieve your goals. We&rsquo\;ll cover tidbits like how many links create the most engagement\, how to turn questions into high-open subject lines\, tips on using graphics\, pictures and videos\, re-purposing content across multiple platforms\, and more. And\, we&rsquo\;ll give you the structure and tools to make creating your content fast\, easy and effective.</p>  <p><span style="font-size:12px\;"><strong>March Marketing Madness</strong> &ndash\; <strong>Thursdays @ 2:00 pm &ndash\; 3:00 pm WEBINARS</strong></span></p>  <p><span style="font-size:12px\;">5-part Webinar Series </span>&ndash\; registration link for all 5 webinars<span style="font-size:12px\;">: <a href="https://attendee.gotowebinar.com/register/1751213432905483524" target="_blank">https://attendee.gotowebinar.com/register/1751213432905483524</a></span></p>  <p><span style="font-size:12px\;">Participants can view the webinar on any computer device\, wi-fi&nbsp\; needed\, and you can use your computer speakers or call in with the phone number and access code provided with your registration. There is no charge to attend each of these webinars\, however\, if you want to receive the recording and slide presentation\, you must attend the webinar at the scheduled time.</span></p>  <p><span style="font-size:12px\;">Recordings will be sent to each participating attendee.</span></p> 
LOCATION:Web based
UID:e.1531.3361
SEQUENCE:3
DTSTAMP:20260421T085834Z
URL:https://cmmembers.psaeger.com/events/details/advanced-professional-email-marketing-webinar-03-10-2016-3361
END:VEVENT

END:VCALENDAR
