BEGIN:VCALENDAR
VERSION:2.0
PRODID:-//ChamberMaster//Event Calendar 2.0//EN
METHOD:PUBLISH
X-PUBLISHED-TTL:P3D
REFRESH-INTERVAL:P3D
CALSCALE:GREGORIAN
BEGIN:VEVENT
DTSTART:20160313T020000Z
DTEND:20160313T050000Z
X-MICROSOFT-CDO-ALLDAYEVENT:FALSE
SUMMARY:A Vintage Affair
DESCRIPTION:Taste through the past\, present and future of Brassfield Estate wines - including barrel tasting and pre-release wines. Enjoy an elegant vintage buffet dinner by Rosey Cooks Catering\, music through the decades by DJ Tony Barthel and a best vintage costume contest.$65 per person - or $55 per Wine Club Member. Reservations required. Amandabolla@brassfieldestate.com.
X-ALT-DESC;FMTTYPE=text/html:<p>Taste through the past\, present and future of Brassfield Estate wines - including barrel tasting and pre-release wines. Enjoy an elegant vintage buffet dinner by Rosey Cooks Catering\, music through the decades by DJ Tony Barthel and a best vintage costume contest.$65 per person - or $55 per Wine Club Member. <strong>Reservations required. Amandabolla@brassfieldestate.com.</strong><br /> &nbsp\;</p> 
LOCATION:Brassfield Estate Winery
UID:e.1531.3343
SEQUENCE:3
DTSTAMP:20260421T085750Z
URL:https://cmmembers.psaeger.com/events/details/a-vintage-affair-03-12-2016-3343
END:VEVENT

END:VCALENDAR
