BEGIN:VCALENDAR
VERSION:2.0
PRODID:-//ChamberMaster//Event Calendar 2.0//EN
METHOD:PUBLISH
X-PUBLISHED-TTL:P3D
REFRESH-INTERVAL:P3D
CALSCALE:GREGORIAN
BEGIN:VEVENT
DTSTART:20160315T013000Z
DTEND:20160315T040000Z
X-MICROSOFT-CDO-ALLDAYEVENT:FALSE
SUMMARY:A. C. Myles at Blue Wing Monday Blues
DESCRIPTION:Local\, Bay Area and touring blues bands perform at the Blue Wing at dinner time each Monday evening. It's great food in a lively and danceable atmosphere. There's no cover but reservations are suggested\, either inside or out on our heated veranda. Tonight we feature for the first time at the Blue Wing the well-known A. C. Myles and his band from Fresno.
X-ALT-DESC;FMTTYPE=text/html:<p>Local\, Bay Area and touring blues bands perform at the Blue Wing at dinner time each Monday evening. It&#39\;s great food in a lively and danceable atmosphere. There&#39\;s no cover but reservations are suggested\, either inside or out on our heated veranda. Tonight we feature for the first time at the Blue Wing the well-known A. C. Myles and his band from Fresno.</p> 
LOCATION:Blue Wing Restaurant
UID:e.1531.3227
SEQUENCE:3
DTSTAMP:20260421T102359Z
URL:https://cmmembers.psaeger.com/events/details/a-c-myles-at-blue-wing-monday-blues-03-14-2016-3227
END:VEVENT

END:VCALENDAR
