BEGIN:VCALENDAR
VERSION:2.0
PRODID:-//ChamberMaster//Event Calendar 2.0//EN
METHOD:PUBLISH
X-PUBLISHED-TTL:P3D
REFRESH-INTERVAL:P3D
CALSCALE:GREGORIAN
BEGIN:VEVENT
DTSTART:20160327T201500Z
DTEND:20160327T210000Z
X-MICROSOFT-CDO-ALLDAYEVENT:FALSE
SUMMARY:91st Rotary Easter Egg Hunt
DESCRIPTION:91st Annual Lakeport Rotary Easter Egg Hunt  Fairgrounds in Lakeport\, 401 Martin Street     AGES 0-12 YEARS\, 3 age groups: 0-3\, 4-8\, 9-12  FREE TO PUBLIC  Gates open at 1:15pm  Hunt begins at 1:30pm
X-ALT-DESC;FMTTYPE=text/html:<h1 style="text-align: center\;">91st Annual Lakeport Rotary Easter Egg Hunt</h1>  <h2 style="text-align: center\;"><strong>Fairgrounds in Lakeport\, 401 Martin Street</strong></h2>  <p>&nbsp\;</p>  <h2 style="text-align: center\;"><strong>AGES 0-12 YEARS\, 3 age groups: 0-3\, 4-8\, 9-12</strong></h2>  <h2 style="text-align: center\;">FREE TO PUBLIC</h2>  <h2 style="text-align: center\;">Gates open at 1:15pm</h2>  <h2 style="text-align: center\;">Hunt begins at 1:30pm</h2> 
LOCATION:Fairgrounds in Lakeport
UID:e.1531.3481
SEQUENCE:3
DTSTAMP:20260421T085637Z
URL:https://cmmembers.psaeger.com/events/details/91st-rotary-easter-egg-hunt-03-27-2016-3481
END:VEVENT

END:VCALENDAR
