BEGIN:VCALENDAR
VERSION:2.0
PRODID:-//ChamberMaster//Event Calendar 2.0//EN
METHOD:PUBLISH
X-PUBLISHED-TTL:P3D
REFRESH-INTERVAL:P3D
CALSCALE:GREGORIAN
BEGIN:VEVENT
DTSTART:20160522T180000Z
DTEND:20160523T000000Z
X-MICROSOFT-CDO-ALLDAYEVENT:FALSE
SUMMARY:2016 Wine Adventure Weekend
DESCRIPTION:This two-day event at more than 25 wineries will include a gala Friday evening kick off and a Saturday and Sunday passport event.  Wine taste on mountain tops\, in country towns\, and lakeside.  Barrel tastings\, winery tours\, scrumptious hors d'oeuvres\, music\, raffle.  Buses\, tours and drivers available.  Ticket prices vary with event.  For more information\, check our website at www.lakecountywineries.org
X-ALT-DESC;FMTTYPE=text/html:<p>This two-day event at more than 25 wineries will include a gala Friday evening kick off and a Saturday and Sunday passport event.&nbsp\; Wine taste on mountain tops\, in country towns\, and lakeside.&nbsp\; Barrel tastings\, winery tours\, scrumptious hors d&#39\;oeuvres\, music\, raffle.&nbsp\; Buses\, tours and drivers available.</p>  <p>Ticket prices vary with event.&nbsp\; For more information\, check our website at www.lakecountywineries.org</p> 
LOCATION:Lake County Wineries
UID:e.1531.3277
SEQUENCE:3
DTSTAMP:20260421T060029Z
URL:https://cmmembers.psaeger.com/events/details/2016-wine-adventure-weekend-05-22-2016-3277
END:VEVENT

END:VCALENDAR
