BEGIN:VCALENDAR
VERSION:2.0
PRODID:-//ChamberMaster//Event Calendar 2.0//EN
METHOD:PUBLISH
X-PUBLISHED-TTL:P3D
REFRESH-INTERVAL:P3D
CALSCALE:GREGORIAN
BEGIN:VEVENT
DTSTART:20170430T143000Z
DTEND:20170430T154500Z
X-MICROSOFT-CDO-ALLDAYEVENT:FALSE
SUMMARY:2015 Real Heroes Breakfast
DESCRIPTION:Red Cross' 12th Annual Real Heroes Breakfast   Thursday\, April 30\, 2015\, 7:30 a.m.  DoubleTree Hotel  One Doubletree Drive\, Rohnert Park\, CA 94928      EVENT LISTING expires April 29\, 2015  Celebrate Local Heroes   Thursday\, April 30\, 2015\, 7:30 a.m.  Join the American Red Cross of the California Northwest as we honor local Lake\, Mendocino\, Napa and Sonoma County heroes who reflect the mission of the Red Cross by responding with selfless acts of courage and compassion to those who need help at the 12th Annual Real Heroes Breakfast on Thursday\, April 30\, 2015 at the DoubleTree Hotel in Rohnert Park. The Real Heroes Breakfast is a powerful and inspiring event that benefits the vital programs and services of your local Red Cross. Debbie Abrams from KZST will be the Master of Ceremonies. Seating is limited. Visit redcross.org/CNWHeroes for more information.
X-ALT-DESC;FMTTYPE=text/html:<div align="center" style="color: rgb(33\, 33\, 33)\; font-family: wf_segoe-ui_normal\, 'Segoe UI'\, 'Segoe WP'\, Tahoma\, Arial\, sans-serif\; font-size: 15px\; text-align: center\; margin: 0px\;"><font face="Calibri\,sans-serif" size="2"><span style="font-size: 11pt\;"><font face="Arial\,sans-serif" size="4"><span style="font-size: 14pt\;"><b>Red Cross&rsquo\; 12</b></span></font><font face="Arial\,sans-serif" size="-1"><b><sup>th</sup></b></font><font face="Arial\,sans-serif" size="4"><span style="font-size: 14pt\;"><b>&nbsp\;Annual Real Heroes Breakfast&nbsp\;</b></span></font></span></font></div>  <div align="center" style="color: rgb(33\, 33\, 33)\; font-family: wf_segoe-ui_normal\, 'Segoe UI'\, 'Segoe WP'\, Tahoma\, Arial\, sans-serif\; font-size: 15px\; text-align: center\; margin: 0px\;"><font face="Calibri\,sans-serif" size="2"><span style="font-size: 11pt\;"><font face="Arial\,sans-serif">Thursday\, April 30\, 2015\, 7:30 a.m.</font></span></font></div>  <div align="center" style="color: rgb(33\, 33\, 33)\; font-family: wf_segoe-ui_normal\, 'Segoe UI'\, 'Segoe WP'\, Tahoma\, Arial\, sans-serif\; font-size: 15px\; text-align: center\; margin: 0px\;"><font face="Calibri\,sans-serif" size="2"><span style="font-size: 11pt\;"><font face="Arial\,sans-serif">DoubleTree Hotel</font></span></font></div>  <div align="center" style="color: rgb(33\, 33\, 33)\; font-family: wf_segoe-ui_normal\, 'Segoe UI'\, 'Segoe WP'\, Tahoma\, Arial\, sans-serif\; font-size: 15px\; text-align: center\; margin: 0px\;"><font face="Calibri\,sans-serif" size="2"><span style="font-size: 11pt\;"><font face="Arial\,sans-serif">One Doubletree Drive\, Rohnert Park\, CA 94928</font><font face="Arial\,sans-serif"><b>&nbsp\;</b></font></span></font></div>  <div align="center" style="color: rgb(33\, 33\, 33)\; font-family: wf_segoe-ui_normal\, 'Segoe UI'\, 'Segoe WP'\, Tahoma\, Arial\, sans-serif\; font-size: 15px\; text-align: center\; margin: 0px\;"><font face="Calibri\,sans-serif" size="2"><span style="font-size: 11pt\;"><font face="Arial\,sans-serif">&nbsp\;</font></span></font></div>  <div style="color: rgb(33\, 33\, 33)\; font-family: wf_segoe-ui_normal\, 'Segoe UI'\, 'Segoe WP'\, Tahoma\, Arial\, sans-serif\; font-size: 15px\; background-color: rgb(243\, 243\, 243)\; margin: 0px\;"><font face="Calibri\,sans-serif" size="2"><span style="font-size: 11pt\;"><font face="Arial\,sans-serif"><b>EVENT LISTING&nbsp\;</b></font><font color="red" face="Arial\,sans-serif"><b><i>expires April 29\, 2015</i></b></font></span></font></div>  <div style="color: rgb(33\, 33\, 33)\; font-family: wf_segoe-ui_normal\, 'Segoe UI'\, 'Segoe WP'\, Tahoma\, Arial\, sans-serif\; font-size: 15px\; margin: 0px\;"><font face="Calibri\,sans-serif" size="2"><span style="font-size: 11pt\;"><font face="Arial\,sans-serif"><b>Celebrate Local Heroes&nbsp\;</b></font></span></font></div>  <div style="color: rgb(33\, 33\, 33)\; font-family: wf_segoe-ui_normal\, 'Segoe UI'\, 'Segoe WP'\, Tahoma\, Arial\, sans-serif\; font-size: 15px\; margin: 0px\;"><font face="Calibri\,sans-serif" size="2"><span style="font-size: 11pt\;"><font face="Arial\,sans-serif"><b>Thursday\, April 30\, 2015\, 7:30 a.m.</b></font></span></font></div>  <div style="color: rgb(33\, 33\, 33)\; font-family: wf_segoe-ui_normal\, 'Segoe UI'\, 'Segoe WP'\, Tahoma\, Arial\, sans-serif\; font-size: 15px\; margin: 0px\;"><font face="Calibri\,sans-serif" size="2"><span style="font-size: 11pt\;"><font face="Arial\,sans-serif">Join the American Red Cross of the California Northwest as we honor local Lake\, Mendocino\, Napa and Sonoma County heroes who reflect the mission of the Red Cross by responding with selfless acts of courage and compassion to those who need help at the 12</font><font face="Arial\,sans-serif" size="-1"><sup>th</sup></font><font face="Arial\,sans-serif">&nbsp\;Annual Real Heroes Breakfast on&nbsp\;</font><font face="Arial\,sans-serif">Thursday\, April 30\, 2015 at</font><font face="Arial\,sans-serif">&nbsp\;the DoubleTree Hotel in Rohnert Park. The Real Heroes Breakfast is a powerful and inspiring event that benefits the vital programs and services of your local Red Cross. Debbie Abrams from KZST will be the Master of Ceremonies. Seating is limited. Visit</font><font color="#1F497D" face="Arial\,sans-serif">&nbsp\;</font><a href="http://www.redcross.org/cnwheroes" target="_blank"><font face="Arial\,sans-serif">redcross.org/CNWHeroes</font></a><font color="#1F497D" face="Arial\,sans-serif">&nbsp\;</font><font face="Arial\,sans-serif">for more information.</font></span></font></div> 
LOCATION:Rohnert Park\, CA
UID:e.1531.3745
SEQUENCE:3
DTSTAMP:20260420T113518Z
URL:https://cmmembers.psaeger.com/events/details/2015-real-heroes-breakfast-04-30-2017-3745
END:VEVENT

END:VCALENDAR
